BEGIN:VCALENDAR
VERSION:2.0
PRODID:-//CERN//INDICO//EN
BEGIN:VEVENT
SUMMARY:Physics of Dual Energy CT and CT Perfusion
DTSTART;VALUE=DATE-TIME:20160505T090000Z
DTEND;VALUE=DATE-TIME:20160505T100000Z
DTSTAMP;VALUE=DATE-TIME:20240318T153749Z
UID:indico-contribution-16@ictp.it
DESCRIPTION:Speakers: MAHESH\, Mahadevappa ()\n//indico.ictp.it/event/7635
 /session/3/contribution/16
LOCATION:ICTP LB (Euler Lecture Hall)
URL://indico.ictp.it/event/7635/session/3/contribution/16
END:VEVENT
END:VCALENDAR
