BEGIN:VCALENDAR
VERSION:2.0
PRODID:-//CERN//INDICO//EN
BEGIN:VEVENT
SUMMARY:Practical work in groups: G3 and G4 in the hospital\; rotation for
  tasks A) and B)
DTSTART;VALUE=DATE-TIME:20160511T120000Z
DTEND;VALUE=DATE-TIME:20160511T160000Z
DTSTAMP;VALUE=DATE-TIME:20240318T173454Z
UID:indico-contribution-43@ictp.it
DESCRIPTION:Speakers: \nA) at CT scanner: scan parameters\; review of clin
 ical protocols\;\n\nB) at PACS and dose tracking stations\n\nG1 and G2 in 
 the computer lab: self-learning using the IAEA e-learning material on pati
 ent does management in CT\n\n//indico.ictp.it/event/7635/session/7/contrib
 ution/43
LOCATION:ICTP LB (Euler Lecture Hall)
URL://indico.ictp.it/event/7635/session/7/contribution/43
END:VEVENT
END:VCALENDAR
