BEGIN:VCALENDAR
VERSION:2.0
PRODID:-//CERN//INDICO//EN
BEGIN:VEVENT
SUMMARY:Head CT
DTSTART;VALUE=DATE-TIME:20160512T100000Z
DTEND;VALUE=DATE-TIME:20160512T110000Z
DTSTAMP;VALUE=DATE-TIME:20240318T154439Z
UID:indico-contribution-48@ictp.it
DESCRIPTION:Speakers: KALRA\, Mannudeep ()\n//indico.ictp.it/event/7635/se
 ssion/8/contribution/48
LOCATION:ICTP LB (Euler Lecture Hall)
URL://indico.ictp.it/event/7635/session/8/contribution/48
END:VEVENT
END:VCALENDAR
