BEGIN:VCALENDAR
VERSION:2.0
PRODID:-//CERN//INDICO//EN
BEGIN:VEVENT
SUMMARY:QA/QC Program for CT
DTSTART;VALUE=DATE-TIME:20160502T130000Z
DTEND;VALUE=DATE-TIME:20160502T140000Z
DTSTAMP;VALUE=DATE-TIME:20240318T150551Z
UID:indico-contribution-5@ictp.it
DESCRIPTION:Speakers: KORTESNIEMI\, Mika ()\n//indico.ictp.it/event/7635/s
 ession/0/contribution/5
LOCATION:ICTP LB (Euler Lecture Hall)
URL://indico.ictp.it/event/7635/session/0/contribution/5
END:VEVENT
END:VCALENDAR
