BEGIN:VCALENDAR
VERSION:2.0
PRODID:-//CERN//INDICO//EN
BEGIN:VEVENT
SUMMARY:CT in Radiotherapy
DTSTART;VALUE=DATE-TIME:20160513T080000Z
DTEND;VALUE=DATE-TIME:20160513T090000Z
DTSTAMP;VALUE=DATE-TIME:20240318T162511Z
UID:indico-contribution-52@ictp.it
DESCRIPTION:Speakers: CASTELLANO\, Isabel ()\n//indico.ictp.it/event/7635/
 session/9/contribution/52
LOCATION:ICTP LB (Euler Lecture Hall)
URL://indico.ictp.it/event/7635/session/9/contribution/52
END:VEVENT
END:VCALENDAR
