BEGIN:VCALENDAR
VERSION:2.0
PRODID:-//CERN//INDICO//EN
BEGIN:VEVENT
SUMMARY:Classroom practical: review of dose data
DTSTART;VALUE=DATE-TIME:20160513T093000Z
DTEND;VALUE=DATE-TIME:20160513T110000Z
DTSTAMP;VALUE=DATE-TIME:20240318T153356Z
UID:indico-contribution-53@ictp.it
DESCRIPTION:Speakers: CASTELLANO\, Isabel ()\n//indico.ictp.it/event/7635/
 session/9/contribution/53
LOCATION:ICTP LB (Euler Lecture Hall)
URL://indico.ictp.it/event/7635/session/9/contribution/53
END:VEVENT
END:VCALENDAR
