BEGIN:VCALENDAR
VERSION:2.0
PRODID:-//CERN//INDICO//EN
BEGIN:VEVENT
SUMMARY:Hospital Practicals: QC and Dosimetry in CT & Parallel Sessions "P
 atient dose estimation exercise" at ICTP
DTSTART;VALUE=DATE-TIME:20160503T120000Z
DTEND;VALUE=DATE-TIME:20160503T150000Z
DTSTAMP;VALUE=DATE-TIME:20240318T162818Z
UID:indico-contribution-9@ictp.it
DESCRIPTION:Speakers: MAHESH\, Mahadevappa ()\n//indico.ictp.it/event/7635
 /session/1/contribution/9
LOCATION:LB InfoLab Leonardo Building - Lab
URL://indico.ictp.it/event/7635/session/1/contribution/9
END:VEVENT
END:VCALENDAR
