BEGIN:VCALENDAR
VERSION:2.0
PRODID:-//CERN//INDICO//EN
BEGIN:VEVENT
SUMMARY:Nuclear Applications
DTSTART;VALUE=DATE-TIME:20160411T120000Z
DTEND;VALUE=DATE-TIME:20160411T130000Z
DTSTAMP;VALUE=DATE-TIME:20240319T022546Z
UID:indico-contribution-234@ictp.it
DESCRIPTION:Speakers: CLAUDIO TUNIZ & DMITRIY NIKONOV (ICTP &  IAEA-NSNS)\
 n//indico.ictp.it/event/7636/session/33/contribution/234
LOCATION:ICTP Adriatico Guest House - Kastler Lecture Hall
URL://indico.ictp.it/event/7636/session/33/contribution/234
END:VEVENT
END:VCALENDAR
