BEGIN:VCALENDAR
VERSION:2.0
PRODID:-//CERN//INDICO//EN
BEGIN:VEVENT
SUMMARY:Exercise: Design of Physical Protection System
DTSTART;VALUE=DATE-TIME:20160413T093000Z
DTEND;VALUE=DATE-TIME:20160413T100000Z
DTSTAMP;VALUE=DATE-TIME:20240319T004115Z
UID:indico-contribution-249@ictp.it
DESCRIPTION:Speakers: AXEL HAGEMANN (Germany)\n//indico.ictp.it/event/7636
 /session/35/contribution/249
LOCATION:ICTP Adriatico Guest House - Kastler Lecture Hall
URL://indico.ictp.it/event/7636/session/35/contribution/249
END:VEVENT
END:VCALENDAR
