BEGIN:VCALENDAR
VERSION:2.0
PRODID:-//CERN//INDICO//EN
BEGIN:VEVENT
SUMMARY:Threats Addressed by NMAC
DTSTART;VALUE=DATE-TIME:20160413T113000Z
DTEND;VALUE=DATE-TIME:20160413T123000Z
DTSTAMP;VALUE=DATE-TIME:20240319T015650Z
UID:indico-contribution-251@ictp.it
DESCRIPTION:Speakers: MARTHA WILLIAMS (Lawrence Livermore National Laborat
 ory)\n//indico.ictp.it/event/7636/session/35/contribution/251
LOCATION:ICTP Adriatico Guest House - Kastler Lecture Hall
URL://indico.ictp.it/event/7636/session/35/contribution/251
END:VEVENT
END:VCALENDAR
