BEGIN:VCALENDAR
VERSION:2.0
PRODID:-//CERN//INDICO//EN
BEGIN:VEVENT
SUMMARY:Exercise: NMAC case studies
DTSTART;VALUE=DATE-TIME:20160413T153000Z
DTEND;VALUE=DATE-TIME:20160413T160000Z
DTSTAMP;VALUE=DATE-TIME:20240319T002957Z
UID:indico-contribution-255@ictp.it
DESCRIPTION:Speakers: MARTHA WILLIAMS (Lawrence Livermore National Laborat
 ory)\n//indico.ictp.it/event/7636/session/35/contribution/255
LOCATION:ICTP Adriatico Guest House - Kastler Lecture Hall
URL://indico.ictp.it/event/7636/session/35/contribution/255
END:VEVENT
END:VCALENDAR
