BEGIN:VCALENDAR
VERSION:2.0
PRODID:-//CERN//INDICO//EN
BEGIN:VEVENT
SUMMARY:Exercise: Computer Security Applications
DTSTART;VALUE=DATE-TIME:20160414T093000Z
DTEND;VALUE=DATE-TIME:20160414T103000Z
DTSTAMP;VALUE=DATE-TIME:20240319T022158Z
UID:indico-contribution-259@ictp.it
DESCRIPTION:Speakers: ANNO KEIZER (URENCO)\n//indico.ictp.it/event/7636/se
 ssion/36/contribution/259
LOCATION:ICTP Adriatico Guest House - Kastler Lecture Hall
URL://indico.ictp.it/event/7636/session/36/contribution/259
END:VEVENT
END:VCALENDAR
