BEGIN:VCALENDAR
VERSION:2.0
PRODID:-//CERN//INDICO//EN
BEGIN:VEVENT
SUMMARY:Introduction to the Security of Radioactive Sources
DTSTART;VALUE=DATE-TIME:20160415T070000Z
DTEND;VALUE=DATE-TIME:20160415T073000Z
DTSTAMP;VALUE=DATE-TIME:20240319T002047Z
UID:indico-contribution-265@ictp.it
DESCRIPTION:Speakers: KRISTOF HORVATH (HAEA)\n//indico.ictp.it/event/7636/
 session/37/contribution/265
LOCATION:ICTP Adriatico Guest House - Kastler Lecture Hall
URL://indico.ictp.it/event/7636/session/37/contribution/265
END:VEVENT
END:VCALENDAR
