BEGIN:VCALENDAR
VERSION:2.0
PRODID:-//CERN//INDICO//EN
BEGIN:VEVENT
SUMMARY:Security Measures for Radioactive Sources in Use and Storage
DTSTART;VALUE=DATE-TIME:20160415T080000Z
DTEND;VALUE=DATE-TIME:20160415T090000Z
DTSTAMP;VALUE=DATE-TIME:20240319T015927Z
UID:indico-contribution-267@ictp.it
DESCRIPTION:Speakers: KRISTOF HORVATH (HAEA)\n//indico.ictp.it/event/7636/
 session/37/contribution/267
LOCATION:ICTP Adriatico Guest House - Kastler Lecture Hall
URL://indico.ictp.it/event/7636/session/37/contribution/267
END:VEVENT
END:VCALENDAR
