BEGIN:VCALENDAR
VERSION:2.0
PRODID:-//CERN//INDICO//EN
BEGIN:VEVENT
SUMMARY:Case Study and Final Exercise\, and Group Presentations
DTSTART;VALUE=DATE-TIME:20160419T093000Z
DTEND;VALUE=DATE-TIME:20160419T110000Z
DTSTAMP;VALUE=DATE-TIME:20240319T001606Z
UID:indico-contribution-285@ictp.it
DESCRIPTION:Speakers: MARIA WALLENIUS (JRC)\n//indico.ictp.it/event/7636/s
 ession/40/contribution/285
LOCATION:ICTP Adriatico Guest House - Kastler Lecture Hall
URL://indico.ictp.it/event/7636/session/40/contribution/285
END:VEVENT
END:VCALENDAR
