BEGIN:VCALENDAR
VERSION:2.0
PRODID:-//CERN//INDICO//EN
BEGIN:VEVENT
SUMMARY:Overview of Types of Detection Instrumentation
DTSTART;VALUE=DATE-TIME:20160420T070000Z
DTEND;VALUE=DATE-TIME:20160420T080000Z
DTSTAMP;VALUE=DATE-TIME:20240319T020040Z
UID:indico-contribution-290@ictp.it
DESCRIPTION:Speakers: PAOLO PEERANI\, VITTORIO FORCINA (JRC)\n//indico.ict
 p.it/event/7636/session/41/contribution/290
LOCATION:ICTP Adriatico Guest House - Kastler Lecture Hall
URL://indico.ictp.it/event/7636/session/41/contribution/290
END:VEVENT
END:VCALENDAR
