BEGIN:VCALENDAR
VERSION:2.0
PRODID:-//CERN//INDICO//EN
BEGIN:VEVENT
SUMMARY:Practical Group Exercises on Detection
DTSTART;VALUE=DATE-TIME:20160420T120000Z
DTEND;VALUE=DATE-TIME:20160420T150000Z
DTSTAMP;VALUE=DATE-TIME:20240318T232025Z
UID:indico-contribution-294@ictp.it
DESCRIPTION:Speakers: PAOLO PEERANI\, VITTORIO FORCINA (JRC)\n//indico.ict
 p.it/event/7636/session/41/contribution/294
LOCATION: Multidisciplinary Laboratory
URL://indico.ictp.it/event/7636/session/41/contribution/294
END:VEVENT
END:VCALENDAR
