BEGIN:VCALENDAR
VERSION:2.0
PRODID:-//CERN//INDICO//EN
BEGIN:VEVENT
SUMMARY:Feedback on the Practical Exercises
DTSTART;VALUE=DATE-TIME:20160420T150000Z
DTEND;VALUE=DATE-TIME:20160420T153000Z
DTSTAMP;VALUE=DATE-TIME:20240319T012002Z
UID:indico-contribution-295@ictp.it
DESCRIPTION:Speakers: PAOLO PEERANI\, VITTORIO FORCINA (JRC)\n//indico.ict
 p.it/event/7636/session/41/contribution/295
LOCATION: Multidisciplinary Laboratory
URL://indico.ictp.it/event/7636/session/41/contribution/295
END:VEVENT
END:VCALENDAR
