BEGIN:VCALENDAR
VERSION:2.0
PRODID:-//CERN//INDICO//EN
BEGIN:VEVENT
SUMMARY:Emergency Management for Nuclear Security Events
DTSTART;VALUE=DATE-TIME:20160421T133000Z
DTEND;VALUE=DATE-TIME:20160421T143000Z
DTSTAMP;VALUE=DATE-TIME:20240319T015348Z
UID:indico-contribution-302@ictp.it
DESCRIPTION:Speakers: MARJAN TKAVC (SNSA)\n//indico.ictp.it/event/7636/ses
 sion/42/contribution/302
LOCATION:ICTP AGH (Kastler Lecture Hall)
URL://indico.ictp.it/event/7636/session/42/contribution/302
END:VEVENT
END:VCALENDAR
