BEGIN:VCALENDAR
VERSION:2.0
PRODID:-//CERN//INDICO//EN
BEGIN:VEVENT
SUMMARY:Questions and summary
DTSTART;VALUE=DATE-TIME:20160421T143000Z
DTEND;VALUE=DATE-TIME:20160421T150000Z
DTSTAMP;VALUE=DATE-TIME:20240319T005705Z
UID:indico-contribution-303@ictp.it
DESCRIPTION:Speakers: \n//indico.ictp.it/event/7636/session/42/contributio
 n/303
LOCATION:ICTP AGH (Kastler Lecture Hall)
URL://indico.ictp.it/event/7636/session/42/contribution/303
END:VEVENT
END:VCALENDAR
