BEGIN:VCALENDAR
VERSION:2.0
PRODID:-//CERN//INDICO//EN
BEGIN:VEVENT
SUMMARY:Post-test
DTSTART;VALUE=DATE-TIME:20160422T070000Z
DTEND;VALUE=DATE-TIME:20160422T080000Z
DTSTAMP;VALUE=DATE-TIME:20240318T234034Z
UID:indico-contribution-304@ictp.it
DESCRIPTION:Speakers: DMITRIY NIKONOV (IAEA)\n//indico.ictp.it/event/7636/
 session/43/contribution/304
LOCATION:ICTP AGH (Kastler Lecture Hall)
URL://indico.ictp.it/event/7636/session/43/contribution/304
END:VEVENT
END:VCALENDAR
