BEGIN:VCALENDAR
VERSION:2.0
PRODID:-//CERN//INDICO//EN
BEGIN:VEVENT
SUMMARY:Introduction to Material Outside Regulatory Control (MORC)
DTSTART;VALUE=DATE-TIME:20160418T070000Z
DTEND;VALUE=DATE-TIME:20160418T080000Z
DTSTAMP;VALUE=DATE-TIME:20240319T010606Z
UID:indico-contribution-39-0-276@ictp.it
DESCRIPTION:Speakers: THIERRY PELLETIER (IAEA)\n//indico.ictp.it/event/763
 6/session/39/contribution/276
LOCATION:ICTP Adriatico Guest House - Kastler Lecture Hall
URL://indico.ictp.it/event/7636/session/39/contribution/276
END:VEVENT
BEGIN:VEVENT
SUMMARY:Threat and Risk Assessment for MORC
DTSTART;VALUE=DATE-TIME:20160418T080000Z
DTEND;VALUE=DATE-TIME:20160418T090000Z
DTSTAMP;VALUE=DATE-TIME:20240319T010606Z
UID:indico-contribution-39-0-277@ictp.it
DESCRIPTION:Speakers: THIERRY PELLETIER (IAEA)\n//indico.ictp.it/event/763
 6/session/39/contribution/277
LOCATION:ICTP Adriatico Guest House - Kastler Lecture Hall
URL://indico.ictp.it/event/7636/session/39/contribution/277
END:VEVENT
BEGIN:VEVENT
SUMMARY:Detection Architecture for MORC
DTSTART;VALUE=DATE-TIME:20160418T093000Z
DTEND;VALUE=DATE-TIME:20160418T103000Z
DTSTAMP;VALUE=DATE-TIME:20240319T010606Z
UID:indico-contribution-39-0-278@ictp.it
DESCRIPTION:Speakers: THIERRY PELLETIER (IAEA)\n//indico.ictp.it/event/763
 6/session/39/contribution/278
LOCATION:ICTP Adriatico Guest House - Kastler Lecture Hall
URL://indico.ictp.it/event/7636/session/39/contribution/278
END:VEVENT
BEGIN:VEVENT
SUMMARY:Nuclear Forensics: Scope and Application
DTSTART;VALUE=DATE-TIME:20160418T113000Z
DTEND;VALUE=DATE-TIME:20160418T123000Z
DTSTAMP;VALUE=DATE-TIME:20240319T010606Z
UID:indico-contribution-39-0-279@ictp.it
DESCRIPTION:Speakers: MARIA WALLENIUS (JRC)\n//indico.ictp.it/event/7636/s
 ession/39/contribution/279
LOCATION:ICTP Adriatico Guest House - Kastler Lecture Hall
URL://indico.ictp.it/event/7636/session/39/contribution/279
END:VEVENT
BEGIN:VEVENT
SUMMARY:Introduction to the Model Action Plan
DTSTART;VALUE=DATE-TIME:20160418T123000Z
DTEND;VALUE=DATE-TIME:20160418T130000Z
DTSTAMP;VALUE=DATE-TIME:20240319T010606Z
UID:indico-contribution-39-0-280@ictp.it
DESCRIPTION:Speakers: MARIA WALLENIUS (JRC)\n//indico.ictp.it/event/7636/s
 ession/39/contribution/280
LOCATION:ICTP Adriatico Guest House - Kastler Lecture Hall
URL://indico.ictp.it/event/7636/session/39/contribution/280
END:VEVENT
BEGIN:VEVENT
SUMMARY:Nuclear Forensics as a Preventive Tool
DTSTART;VALUE=DATE-TIME:20160418T130000Z
DTEND;VALUE=DATE-TIME:20160418T133000Z
DTSTAMP;VALUE=DATE-TIME:20240319T010606Z
UID:indico-contribution-39-0-281@ictp.it
DESCRIPTION:Speakers: MARIA WALLENIUS (JRC)\n//indico.ictp.it/event/7636/s
 ession/39/contribution/281
LOCATION:ICTP Adriatico Guest House - Kastler Lecture Hall
URL://indico.ictp.it/event/7636/session/39/contribution/281
END:VEVENT
BEGIN:VEVENT
SUMMARY:Case Study and Final Exercise: "An Investigation of Highly Enriche
 d Uranium Out of Regulatory Control"
DTSTART;VALUE=DATE-TIME:20160418T140000Z
DTEND;VALUE=DATE-TIME:20160418T150000Z
DTSTAMP;VALUE=DATE-TIME:20240319T010606Z
UID:indico-contribution-39-0-282@ictp.it
DESCRIPTION:Speakers: MARIA WALLENIUS (JRC)\n//indico.ictp.it/event/7636/s
 ession/39/contribution/282
LOCATION:ICTP Adriatico Guest House - Kastler Lecture Hall
URL://indico.ictp.it/event/7636/session/39/contribution/282
END:VEVENT
BEGIN:VEVENT
SUMMARY:Questions and summary
DTSTART;VALUE=DATE-TIME:20160418T150000Z
DTEND;VALUE=DATE-TIME:20160418T153000Z
DTSTAMP;VALUE=DATE-TIME:20240319T010606Z
UID:indico-contribution-39-0-283@ictp.it
DESCRIPTION:Speakers: \n//indico.ictp.it/event/7636/session/39/contributio
 n/283
LOCATION:ICTP Adriatico Guest House - Kastler Lecture Hall
URL://indico.ictp.it/event/7636/session/39/contribution/283
END:VEVENT
END:VCALENDAR
