BEGIN:VCALENDAR
VERSION:2.0
PRODID:-//CERN//INDICO//EN
BEGIN:VEVENT
SUMMARY:Group discussions
DTSTART;VALUE=DATE-TIME:20160707T140000Z
DTEND;VALUE=DATE-TIME:20160707T160000Z
DTSTAMP;VALUE=DATE-TIME:20240317T193152Z
UID:indico-contribution-18@ictp.it
DESCRIPTION:Speakers: \n//indico.ictp.it/event/7647/session/3/contribution
 /18
LOCATION:ICTP LB (Budinich Lecture Hall)
URL://indico.ictp.it/event/7647/session/3/contribution/18
END:VEVENT
END:VCALENDAR
