BEGIN:VCALENDAR
VERSION:2.0
PRODID:-//CERN//INDICO//EN
BEGIN:VEVENT
SUMMARY:Kerov-Vershik method in Pickrell's classification
DTSTART;VALUE=DATE-TIME:20160706T070000Z
DTEND;VALUE=DATE-TIME:20160706T074500Z
DTSTAMP;VALUE=DATE-TIME:20240317T170753Z
UID:indico-contribution-2-0-9@ictp.it
DESCRIPTION:Speakers: Y. QIU (Universite' Paul Sabatier)\n//indico.ictp.it
 /event/7647/session/2/contribution/9
LOCATION:ICTP LB (Budinich Lecture Hall)
URL://indico.ictp.it/event/7647/session/2/contribution/9
END:VEVENT
BEGIN:VEVENT
SUMMARY:Dynamics of group actions on homogeneous spaces
DTSTART;VALUE=DATE-TIME:20160706T081500Z
DTEND;VALUE=DATE-TIME:20160706T090000Z
DTSTAMP;VALUE=DATE-TIME:20240317T170753Z
UID:indico-contribution-2-0-10@ictp.it
DESCRIPTION:Speakers: A. MOHAMMADI (The University of Texas at Austin)\n//
 indico.ictp.it/event/7647/session/2/contribution/10
LOCATION:ICTP LB (Budinich Lecture Hall)
URL://indico.ictp.it/event/7647/session/2/contribution/10
END:VEVENT
BEGIN:VEVENT
SUMMARY:Introduction to smooth group actions and rigidity
DTSTART;VALUE=DATE-TIME:20160706T091500Z
DTEND;VALUE=DATE-TIME:20160706T100000Z
DTSTAMP;VALUE=DATE-TIME:20240317T170753Z
UID:indico-contribution-2-0-11@ictp.it
DESCRIPTION:Speakers: F. HERTZ (The Pennsylvania State University)\n//indi
 co.ictp.it/event/7647/session/2/contribution/11
LOCATION:ICTP LB (Budinich Lecture Hall)
URL://indico.ictp.it/event/7647/session/2/contribution/11
END:VEVENT
BEGIN:VEVENT
SUMMARY:Group photo
DTSTART;VALUE=DATE-TIME:20160706T100000Z
DTEND;VALUE=DATE-TIME:20160706T101000Z
DTSTAMP;VALUE=DATE-TIME:20240317T170753Z
UID:indico-contribution-2-0-49@ictp.it
DESCRIPTION:Speakers: \n//indico.ictp.it/event/7647/session/2/contribution
 /49
LOCATION:ICTP LB (Budinich Lecture Hall)
URL://indico.ictp.it/event/7647/session/2/contribution/49
END:VEVENT
BEGIN:VEVENT
SUMMARY:Exercise class
DTSTART;VALUE=DATE-TIME:20160706T120000Z
DTEND;VALUE=DATE-TIME:20160706T140000Z
DTSTAMP;VALUE=DATE-TIME:20240317T170753Z
UID:indico-contribution-2-0-12@ictp.it
DESCRIPTION:Speakers: \n//indico.ictp.it/event/7647/session/2/contribution
 /12
LOCATION:ICTP LB (Budinich Lecture Hall)
URL://indico.ictp.it/event/7647/session/2/contribution/12
END:VEVENT
BEGIN:VEVENT
SUMMARY:Entropy for partially hyperbolic diffeomorphisms with low dimensio
 nal center
DTSTART;VALUE=DATE-TIME:20160706T140000Z
DTEND;VALUE=DATE-TIME:20160706T143000Z
DTSTAMP;VALUE=DATE-TIME:20240317T170753Z
UID:indico-contribution-2-0-50@ictp.it
DESCRIPTION:Speakers: SAGHIN\, R. (Universidad Valparaiso Chile)\n//indico
 .ictp.it/event/7647/session/2/contribution/50
LOCATION:ICTP LB (Budinich Lecture Hall)
URL://indico.ictp.it/event/7647/session/2/contribution/50
END:VEVENT
END:VCALENDAR
