BEGIN:VCALENDAR
VERSION:2.0
PRODID:-//CERN//INDICO//EN
BEGIN:VEVENT
SUMMARY:Morning Session Chair:  Angelo Rosa
DTSTART;VALUE=DATE-TIME:20160620T080000Z
DTEND;VALUE=DATE-TIME:20160620T082000Z
DTSTAMP;VALUE=DATE-TIME:20240317T233654Z
UID:indico-contribution-367@ictp.it
DESCRIPTION:Speakers: \n//indico.ictp.it/event/7660/session/40/contributio
 n/367
LOCATION:ICTP LB (Budinich Lecture Hall)
URL://indico.ictp.it/event/7660/session/40/contribution/367
END:VEVENT
END:VCALENDAR
