BEGIN:VCALENDAR
VERSION:2.0
PRODID:-//CERN//INDICO//EN
BEGIN:VEVENT
SUMMARY:Spectra of random clusters in highly dissolved solutions:  Number 
 theoretic manifestation of noise
DTSTART;VALUE=DATE-TIME:20160620T141500Z
DTEND;VALUE=DATE-TIME:20160620T150000Z
DTSTAMP;VALUE=DATE-TIME:20240317T231756Z
UID:indico-contribution-374@ictp.it
DESCRIPTION:Speakers: SERGEI NECHAEV ()\n//indico.ictp.it/event/7660/sessi
 on/40/contribution/374
LOCATION:ICTP Leonardo Building - Budinich Lecture Hall
URL://indico.ictp.it/event/7660/session/40/contribution/374
END:VEVENT
END:VCALENDAR
