BEGIN:VCALENDAR
VERSION:2.0
PRODID:-//CERN//INDICO//EN
BEGIN:VEVENT
SUMMARY:Functions of Chromatin Looping
DTSTART;VALUE=DATE-TIME:20160620T150000Z
DTEND;VALUE=DATE-TIME:20160620T154500Z
DTSTAMP;VALUE=DATE-TIME:20240317T235355Z
UID:indico-contribution-375@ictp.it
DESCRIPTION:Speakers: GERD BLOBEL ()\n//indico.ictp.it/event/7660/session/
 40/contribution/375
LOCATION:ICTP Leonardo Building - Budinich Lecture Hall
URL://indico.ictp.it/event/7660/session/40/contribution/375
END:VEVENT
END:VCALENDAR
