BEGIN:VCALENDAR
VERSION:2.0
PRODID:-//CERN//INDICO//EN
BEGIN:VEVENT
SUMMARY:Chromosome Organizaton and the physics of crumpled polymers
DTSTART;VALUE=DATE-TIME:20160620T154500Z
DTEND;VALUE=DATE-TIME:20160620T163000Z
DTSTAMP;VALUE=DATE-TIME:20240318T004606Z
UID:indico-contribution-376@ictp.it
DESCRIPTION:Speakers: ANGELO ROSA ()\n//indico.ictp.it/event/7660/session/
 40/contribution/376
LOCATION:ICTP Leonardo Building - Budinich Lecture Hall
URL://indico.ictp.it/event/7660/session/40/contribution/376
END:VEVENT
END:VCALENDAR
