BEGIN:VCALENDAR
VERSION:2.0
PRODID:-//CERN//INDICO//EN
BEGIN:VEVENT
SUMMARY:Single cell and single molecule chromosome conformation capture
DTSTART;VALUE=DATE-TIME:20160622T121500Z
DTEND;VALUE=DATE-TIME:20160622T130000Z
DTSTAMP;VALUE=DATE-TIME:20240317T232913Z
UID:indico-contribution-391@ictp.it
DESCRIPTION:Speakers: AMOS TANAY ()\n//indico.ictp.it/event/7660/session/4
 2/contribution/391
LOCATION:ICTP Leonardo Building - Budinich Lecture Hall
URL://indico.ictp.it/event/7660/session/42/contribution/391
END:VEVENT
END:VCALENDAR
