BEGIN:VCALENDAR
VERSION:2.0
PRODID:-//CERN//INDICO//EN
BEGIN:VEVENT
SUMMARY:Short Talks selected from Best Posters I
DTSTART;VALUE=DATE-TIME:20160622T150000Z
DTEND;VALUE=DATE-TIME:20160622T152000Z
DTSTAMP;VALUE=DATE-TIME:20240318T005015Z
UID:indico-contribution-394@ictp.it
DESCRIPTION:Speakers: \n//indico.ictp.it/event/7660/session/42/contributio
 n/394
LOCATION:ICTP LB (Budinich Lecture Hall)
URL://indico.ictp.it/event/7660/session/42/contribution/394
END:VEVENT
END:VCALENDAR
