BEGIN:VCALENDAR
VERSION:2.0
PRODID:-//CERN//INDICO//EN
BEGIN:VEVENT
SUMMARY:Chromatin state and architecture guides the function of along nonc
 oding RNA
DTSTART;VALUE=DATE-TIME:20160623T083000Z
DTEND;VALUE=DATE-TIME:20160623T091500Z
DTSTAMP;VALUE=DATE-TIME:20240317T233114Z
UID:indico-contribution-400@ictp.it
DESCRIPTION:Speakers: JOSÉE DOSTIE ()\n//indico.ictp.it/event/7660/sessio
 n/43/contribution/400
LOCATION:ICTP Leonardo Building - Budinich Lecture Hall
URL://indico.ictp.it/event/7660/session/43/contribution/400
END:VEVENT
END:VCALENDAR
