BEGIN:VCALENDAR
VERSION:2.0
PRODID:-//CERN//INDICO//EN
BEGIN:VEVENT
SUMMARY:Structural organization of human replication timing domains
DTSTART;VALUE=DATE-TIME:20160623T121500Z
DTEND;VALUE=DATE-TIME:20160623T130000Z
DTSTAMP;VALUE=DATE-TIME:20240317T235747Z
UID:indico-contribution-404@ictp.it
DESCRIPTION:Speakers: BENJAMIN AUDIT ()\n//indico.ictp.it/event/7660/sessi
 on/43/contribution/404
LOCATION:ICTP Leonardo Building - Budinich Lecture Hall
URL://indico.ictp.it/event/7660/session/43/contribution/404
END:VEVENT
END:VCALENDAR
