BEGIN:VCALENDAR
VERSION:2.0
PRODID:-//CERN//INDICO//EN
BEGIN:VEVENT
SUMMARY:Morning Session Chair:  Francois Képès
DTSTART;VALUE=DATE-TIME:20160621T071500Z
DTEND;VALUE=DATE-TIME:20160621T073500Z
DTSTAMP;VALUE=DATE-TIME:20240318T002542Z
UID:indico-contribution-41-0-377@ictp.it
DESCRIPTION:Speakers: \n//indico.ictp.it/event/7660/session/41/contributio
 n/377
LOCATION:ICTP LB (Budinich Lecture Hall)
URL://indico.ictp.it/event/7660/session/41/contribution/377
END:VEVENT
BEGIN:VEVENT
SUMMARY:3D nuclear topography of active and inactive regulatory sequence s
 tudied with super-resolution fluorescence microscopy
DTSTART;VALUE=DATE-TIME:20160621T071500Z
DTEND;VALUE=DATE-TIME:20160621T080000Z
DTSTAMP;VALUE=DATE-TIME:20240318T002542Z
UID:indico-contribution-41-0-378@ictp.it
DESCRIPTION:Speakers: THOMAS CREMER ()\n//indico.ictp.it/event/7660/sessio
 n/41/contribution/378
LOCATION:ICTP Leonardo Building - Budinich Lecture Hall
URL://indico.ictp.it/event/7660/session/41/contribution/378
END:VEVENT
BEGIN:VEVENT
SUMMARY:TBA
DTSTART;VALUE=DATE-TIME:20160621T083000Z
DTEND;VALUE=DATE-TIME:20160621T091500Z
DTSTAMP;VALUE=DATE-TIME:20240318T002542Z
UID:indico-contribution-41-0-379@ictp.it
DESCRIPTION:Speakers: ALEXANDER Y. GROSBERG ()\n//indico.ictp.it/event/766
 0/session/41/contribution/379
LOCATION:ICTP Leonardo Building - Budinich Lecture Hall
URL://indico.ictp.it/event/7660/session/41/contribution/379
END:VEVENT
BEGIN:VEVENT
SUMMARY:Elementary units of DNA Replication and repair:  A mirror of chrom
 osone higher order structure?
DTSTART;VALUE=DATE-TIME:20160621T091500Z
DTEND;VALUE=DATE-TIME:20160621T100000Z
DTSTAMP;VALUE=DATE-TIME:20240318T002542Z
UID:indico-contribution-41-0-380@ictp.it
DESCRIPTION:Speakers: CRISTINA CARDOSA ()\n//indico.ictp.it/event/7660/ses
 sion/41/contribution/380
LOCATION:ICTP Leonardo Building - Budinich Lecture Hall
URL://indico.ictp.it/event/7660/session/41/contribution/380
END:VEVENT
BEGIN:VEVENT
SUMMARY:Architecture and Regulatory functions of Lamina-associated domains
DTSTART;VALUE=DATE-TIME:20160621T100000Z
DTEND;VALUE=DATE-TIME:20160621T104500Z
DTSTAMP;VALUE=DATE-TIME:20240318T002542Z
UID:indico-contribution-41-0-381@ictp.it
DESCRIPTION:Speakers: BAS VAN STEENSEL ()\n//indico.ictp.it/event/7660/ses
 sion/41/contribution/381
LOCATION:ICTP Leonardo Building - Budinich Lecture Hall
URL://indico.ictp.it/event/7660/session/41/contribution/381
END:VEVENT
BEGIN:VEVENT
SUMMARY:Afternoon Session Chair:  Matteo Marsili
DTSTART;VALUE=DATE-TIME:20160621T121500Z
DTEND;VALUE=DATE-TIME:20160621T123500Z
DTSTAMP;VALUE=DATE-TIME:20240318T002542Z
UID:indico-contribution-41-0-382@ictp.it
DESCRIPTION:Speakers: \n//indico.ictp.it/event/7660/session/41/contributio
 n/382
LOCATION:ICTP LB (Budinich Lecture Hall)
URL://indico.ictp.it/event/7660/session/41/contribution/382
END:VEVENT
BEGIN:VEVENT
SUMMARY:The contraction of space and time in genomic interactions
DTSTART;VALUE=DATE-TIME:20160621T121500Z
DTEND;VALUE=DATE-TIME:20160621T130000Z
DTSTAMP;VALUE=DATE-TIME:20240318T002542Z
UID:indico-contribution-41-0-383@ictp.it
DESCRIPTION:Speakers: OLGA DUDKO ()\n//indico.ictp.it/event/7660/session/4
 1/contribution/383
LOCATION:ICTP Leonardo Building - Budinich Lecture Hall
URL://indico.ictp.it/event/7660/session/41/contribution/383
END:VEVENT
BEGIN:VEVENT
SUMMARY:Poster Session
DTSTART;VALUE=DATE-TIME:20160621T133000Z
DTEND;VALUE=DATE-TIME:20160621T153000Z
DTSTAMP;VALUE=DATE-TIME:20240318T002542Z
UID:indico-contribution-41-0-384@ictp.it
DESCRIPTION:Speakers: \n//indico.ictp.it/event/7660/session/41/contributio
 n/384
LOCATION:ICTP Leonardo Building - Lobby
URL://indico.ictp.it/event/7660/session/41/contribution/384
END:VEVENT
END:VCALENDAR
