BEGIN:VCALENDAR
VERSION:2.0
PRODID:-//CERN//INDICO//EN
BEGIN:VEVENT
SUMMARY:Next-Generation GFDL Climate Model CM4
DTSTART;VALUE=DATE-TIME:20160613T143000Z
DTEND;VALUE=DATE-TIME:20160613T150000Z
DTSTAMP;VALUE=DATE-TIME:20240318T042239Z
UID:indico-contribution-118@ictp.it
DESCRIPTION:Speakers: MING\, Yi ()\n//indico.ictp.it/event/7666/session/28
 /contribution/118
LOCATION:ICTP AGH (Giambiagi Lecture Hall)
URL://indico.ictp.it/event/7666/session/28/contribution/118
END:VEVENT
END:VCALENDAR
