BEGIN:VCALENDAR
VERSION:2.0
PRODID:-//CERN//INDICO//EN
BEGIN:VEVENT
SUMMARY:Overview of Indian Ocean dynamics -  II
DTSTART;VALUE=DATE-TIME:20160616T090000Z
DTEND;VALUE=DATE-TIME:20160616T094500Z
DTSTAMP;VALUE=DATE-TIME:20240318T060935Z
UID:indico-contribution-134@ictp.it
DESCRIPTION:Speakers: JAY MCCREARY ()\n//indico.ictp.it/event/7666/session
 /34/contribution/134
LOCATION:ICTP AGH (Giambiagi Lecture Hall)
URL://indico.ictp.it/event/7666/session/34/contribution/134
END:VEVENT
END:VCALENDAR
