BEGIN:VCALENDAR
VERSION:2.0
PRODID:-//CERN//INDICO//EN
BEGIN:VEVENT
SUMMARY:Systematic Errors in Mean and Annual Cycle of the Regional      Mo
 nsoons
DTSTART;VALUE=DATE-TIME:20160613T075000Z
DTEND;VALUE=DATE-TIME:20160613T082000Z
DTSTAMP;VALUE=DATE-TIME:20240318T044552Z
UID:indico-contribution-25-0-109@ictp.it
DESCRIPTION:Speakers: KEN SPERBER ()\n//indico.ictp.it/event/7666/session/
 25/contribution/109
LOCATION:ICTP AGH (Giambiagi Lecture Hall)
URL://indico.ictp.it/event/7666/session/25/contribution/109
END:VEVENT
BEGIN:VEVENT
SUMMARY:Monsoon modeling efforts at IITM-Pune
DTSTART;VALUE=DATE-TIME:20160613T082000Z
DTEND;VALUE=DATE-TIME:20160613T085000Z
DTSTAMP;VALUE=DATE-TIME:20240318T044552Z
UID:indico-contribution-25-0-110@ictp.it
DESCRIPTION:Speakers: SURYACHANDRA RAO A. ()\n//indico.ictp.it/event/7666/
 session/25/contribution/110
LOCATION:ICTP AGH (Giambiagi Lecture Hall)
URL://indico.ictp.it/event/7666/session/25/contribution/110
END:VEVENT
END:VCALENDAR
