BEGIN:VCALENDAR
VERSION:2.0
PRODID:-//CERN//INDICO//EN
BEGIN:VEVENT
SUMMARY:The influence of orography on monsoons: dynamics and radiative-   
  convective physics
DTSTART;VALUE=DATE-TIME:20160613T091000Z
DTEND;VALUE=DATE-TIME:20160613T094000Z
DTSTAMP;VALUE=DATE-TIME:20240318T034300Z
UID:indico-contribution-26-0-111@ictp.it
DESCRIPTION:Speakers: WILLIAM BOOS (PRESENTED BY X. LEVINE) ()\n//indico.i
 ctp.it/event/7666/session/26/contribution/111
LOCATION:ICTP AGH (Giambiagi Lecture Hall)
URL://indico.ictp.it/event/7666/session/26/contribution/111
END:VEVENT
BEGIN:VEVENT
SUMMARY:Systematic errors in monsoon simulation: importance of equatorial 
     Indian Ocean processes
DTSTART;VALUE=DATE-TIME:20160613T094000Z
DTEND;VALUE=DATE-TIME:20160613T101000Z
DTSTAMP;VALUE=DATE-TIME:20240318T034300Z
UID:indico-contribution-26-0-112@ictp.it
DESCRIPTION:Speakers: H. ANNAMALAI ()\n//indico.ictp.it/event/7666/session
 /26/contribution/112
LOCATION:ICTP AGH (Giambiagi Lecture Hall)
URL://indico.ictp.it/event/7666/session/26/contribution/112
END:VEVENT
BEGIN:VEVENT
SUMMARY:Role of land surface states in simulation and prediction of      m
 onsoons in CFSv2
DTSTART;VALUE=DATE-TIME:20160613T101000Z
DTEND;VALUE=DATE-TIME:20160613T104000Z
DTSTAMP;VALUE=DATE-TIME:20240318T034300Z
UID:indico-contribution-26-0-113@ictp.it
DESCRIPTION:Speakers: PAUL DIRMEYER ()\n//indico.ictp.it/event/7666/sessio
 n/26/contribution/113
LOCATION:ICTP AGH (Giambiagi Lecture Hall)
URL://indico.ictp.it/event/7666/session/26/contribution/113
END:VEVENT
END:VCALENDAR
