BEGIN:VCALENDAR
VERSION:2.0
PRODID:-//CERN//INDICO//EN
BEGIN:VEVENT
SUMMARY:Monsoons in NICAM and challenges ahead
DTSTART;VALUE=DATE-TIME:20160614T120000Z
DTEND;VALUE=DATE-TIME:20160614T123000Z
DTSTAMP;VALUE=DATE-TIME:20240318T063415Z
UID:indico-contribution-30-0-123@ictp.it
DESCRIPTION:Speakers: TOMOE NASUNO ()\n//indico.ictp.it/event/7666/session
 /30/contribution/123
LOCATION:ICTP AGH (Giambiagi Lecture Hall)
URL://indico.ictp.it/event/7666/session/30/contribution/123
END:VEVENT
BEGIN:VEVENT
SUMMARY:Challenges in modeling Australian Monsoon system
DTSTART;VALUE=DATE-TIME:20160614T123000Z
DTEND;VALUE=DATE-TIME:20160614T130000Z
DTSTAMP;VALUE=DATE-TIME:20240318T063415Z
UID:indico-contribution-30-0-124@ictp.it
DESCRIPTION:Speakers: AUREL MOISE ()\n//indico.ictp.it/event/7666/session/
 30/contribution/124
LOCATION:ICTP AGH (Giambiagi Lecture Hall)
URL://indico.ictp.it/event/7666/session/30/contribution/124
END:VEVENT
BEGIN:VEVENT
SUMMARY:Impact of systematic errors on the teleconnection of Interdecadal 
 Pacific Oscillation to the Indian summer monsoon in CMIP5 models
DTSTART;VALUE=DATE-TIME:20160614T130000Z
DTEND;VALUE=DATE-TIME:20160614T133000Z
DTSTAMP;VALUE=DATE-TIME:20240318T063415Z
UID:indico-contribution-30-0-125@ictp.it
DESCRIPTION:Speakers: FRED KUCHARSKI ()\n//indico.ictp.it/event/7666/sessi
 on/30/contribution/125
LOCATION:ICTP AGH (Giambiagi Lecture Hall)
URL://indico.ictp.it/event/7666/session/30/contribution/125
END:VEVENT
END:VCALENDAR
