BEGIN:VCALENDAR
VERSION:2.0
PRODID:-//CERN//INDICO//EN
BEGIN:VEVENT
SUMMARY:Assessment of Long-term Spatio-temporal     Rainfall Variability o
 ver Ghana using Wavelet Analysis'
DTSTART;VALUE=DATE-TIME:20160616T150000Z
DTEND;VALUE=DATE-TIME:20160616T151500Z
DTSTAMP;VALUE=DATE-TIME:20240318T044202Z
UID:indico-contribution-35-0-139@ictp.it
DESCRIPTION:Speakers: MICHAEL BAIDU ()\n//indico.ictp.it/event/7666/sessio
 n/35/contribution/139
LOCATION:ICTP AGH (Giambiagi Lecture Hall)
URL://indico.ictp.it/event/7666/session/35/contribution/139
END:VEVENT
BEGIN:VEVENT
SUMMARY:Diagnostic investigation  of bay of Bengal branch    of monsoon du
 ring normal and delay onset over gangetic West Bengal'
DTSTART;VALUE=DATE-TIME:20160616T151500Z
DTEND;VALUE=DATE-TIME:20160616T153000Z
DTSTAMP;VALUE=DATE-TIME:20240318T044202Z
UID:indico-contribution-35-0-140@ictp.it
DESCRIPTION:Speakers: DEBANJANA DAS ()\n//indico.ictp.it/event/7666/sessio
 n/35/contribution/140
LOCATION:ICTP AGH (Giambiagi Lecture Hall)
URL://indico.ictp.it/event/7666/session/35/contribution/140
END:VEVENT
BEGIN:VEVENT
SUMMARY:'Meta-heuristic ant colony optimization     technique to forecast 
 the amount of summer monsoon rainfall: skill     comparison with Markov ch
 ain model'
DTSTART;VALUE=DATE-TIME:20160616T153000Z
DTEND;VALUE=DATE-TIME:20160616T154500Z
DTSTAMP;VALUE=DATE-TIME:20240318T044202Z
UID:indico-contribution-35-0-141@ictp.it
DESCRIPTION:Speakers: SAYANTIKA GOSWAMI ()\n//indico.ictp.it/event/7666/se
 ssion/35/contribution/141
LOCATION:ICTP AGH (Giambiagi Lecture Hall)
URL://indico.ictp.it/event/7666/session/35/contribution/141
END:VEVENT
BEGIN:VEVENT
SUMMARY:'Are semi-arid regions     hotspots of climate change in Africa an
 d South Asia?'
DTSTART;VALUE=DATE-TIME:20160616T154500Z
DTEND;VALUE=DATE-TIME:20160616T160000Z
DTSTAMP;VALUE=DATE-TIME:20240318T044202Z
UID:indico-contribution-35-0-142@ictp.it
DESCRIPTION:Speakers: ZAROUG MODATIR ABALLA HASSA ()\n//indico.ictp.it/eve
 nt/7666/session/35/contribution/142
LOCATION:ICTP AGH (Giambiagi Lecture Hall)
URL://indico.ictp.it/event/7666/session/35/contribution/142
END:VEVENT
END:VCALENDAR
