BEGIN:VCALENDAR
VERSION:2.0
PRODID:-//CERN//INDICO//EN
BEGIN:VEVENT
SUMMARY:Science Cooperation Under Political Strain
DTSTART;VALUE=DATE-TIME:20160714T090000Z
DTEND;VALUE=DATE-TIME:20160714T103000Z
DTSTAMP;VALUE=DATE-TIME:20240229T210709Z
UID:indico-contribution-12@ictp.it
DESCRIPTION:Speakers: M. GUAL SOLER\, G. KAMEL (AAAS\; SESAME)\n//indico.i
 ctp.it/event/7706/session/3/contribution/12
LOCATION:Trieste - Italy Adriatico Guest House - Giambiagi Lecture Hall
URL://indico.ictp.it/event/7706/session/3/contribution/12
END:VEVENT
END:VCALENDAR
