BEGIN:VCALENDAR
VERSION:2.0
PRODID:-//CERN//INDICO//EN
BEGIN:VEVENT
SUMMARY:Presentation of Certificates\, Overview of AAAS & TWAS Programs\, 
 Feedback Session
DTSTART;VALUE=DATE-TIME:20160715T134500Z
DTEND;VALUE=DATE-TIME:20160715T150000Z
DTSTAMP;VALUE=DATE-TIME:20240229T210657Z
UID:indico-contribution-18@ictp.it
DESCRIPTION:Speakers: \n//indico.ictp.it/event/7706/session/4/contribution
 /18
LOCATION:Trieste - Italy Adriatico Guest House - Giambiagi Lecture Hall
URL://indico.ictp.it/event/7706/session/4/contribution/18
END:VEVENT
END:VCALENDAR
