BEGIN:VCALENDAR
VERSION:2.0
PRODID:-//CERN//INDICO//EN
BEGIN:VEVENT
SUMMARY:Biodiversity without borders
DTSTART;VALUE=DATE-TIME:20160712T123000Z
DTEND;VALUE=DATE-TIME:20160712T134500Z
DTSTAMP;VALUE=DATE-TIME:20240229T210655Z
UID:indico-contribution-5@ictp.it
DESCRIPTION:Speakers: D. SCHINDEL (Smithsonian Institution)\n//indico.ictp
 .it/event/7706/session/1/contribution/5
LOCATION:Trieste - Italy Adriatico Guest House - Giambiagi Lecture Hall
URL://indico.ictp.it/event/7706/session/1/contribution/5
END:VEVENT
END:VCALENDAR
