BEGIN:VCALENDAR
VERSION:2.0
PRODID:-//CERN//INDICO//EN
BEGIN:VEVENT
SUMMARY:Science Diplomacy Simulation I
DTSTART;VALUE=DATE-TIME:20160712T140000Z
DTEND;VALUE=DATE-TIME:20160712T150000Z
DTSTAMP;VALUE=DATE-TIME:20240229T210707Z
UID:indico-contribution-6@ictp.it
DESCRIPTION:Speakers: \n//indico.ictp.it/event/7706/session/1/contribution
 /6
LOCATION:Trieste - Italy Adriatico Guest House - Giambiagi Lecture Hall
URL://indico.ictp.it/event/7706/session/1/contribution/6
END:VEVENT
END:VCALENDAR
