BEGIN:VCALENDAR
VERSION:2.0
PRODID:-//CERN//INDICO//EN
BEGIN:VEVENT
SUMMARY:Workshop: Communicating Science for Policy Across Divides
DTSTART;VALUE=DATE-TIME:20160713T090000Z
DTEND;VALUE=DATE-TIME:20160713T110000Z
DTSTAMP;VALUE=DATE-TIME:20240229T210715Z
UID:indico-contribution-8@ictp.it
DESCRIPTION:Speakers: L. NEELEY\, E. LEMPINEN (Story Collider\; TWAS)\n//i
 ndico.ictp.it/event/7706/session/2/contribution/8
LOCATION:Trieste - Italy Adriatico Guest House - Giambiagi Lecture Hall
URL://indico.ictp.it/event/7706/session/2/contribution/8
END:VEVENT
END:VCALENDAR
