BEGIN:VCALENDAR
VERSION:2.0
PRODID:-//CERN//INDICO//EN
BEGIN:VEVENT
SUMMARY:Science Diplomacy Simulation IIa
DTSTART;VALUE=DATE-TIME:20160713T120000Z
DTEND;VALUE=DATE-TIME:20160713T133000Z
DTSTAMP;VALUE=DATE-TIME:20240229T210728Z
UID:indico-contribution-9@ictp.it
DESCRIPTION:Speakers: \n//indico.ictp.it/event/7706/session/2/contribution
 /9
LOCATION:Trieste - Italy Adriatico Guest House - Giambiagi Lecture Hall
URL://indico.ictp.it/event/7706/session/2/contribution/9
END:VEVENT
END:VCALENDAR
