BEGIN:VCALENDAR
VERSION:2.0
PRODID:-//CERN//INDICO//EN
BEGIN:VEVENT
SUMMARY:Parallel computations using MPI
DTSTART;VALUE=DATE-TIME:20160324T083000Z
DTEND;VALUE=DATE-TIME:20160324T094500Z
DTSTAMP;VALUE=DATE-TIME:20240319T103626Z
UID:indico-contribution-12@ictp.it
DESCRIPTION:Speakers: TIMO HEISTER (Clemson Univ\, USA)\n//indico.ictp.it/
 event/7751/session/3/contribution/12
LOCATION:ICTP Adriatico Guest House - Giambiagi Lecture Hall (Lower Level 
 1)
URL://indico.ictp.it/event/7751/session/3/contribution/12
END:VEVENT
END:VCALENDAR
