BEGIN:VCALENDAR
VERSION:2.0
PRODID:-//CERN//INDICO//EN
BEGIN:VEVENT
SUMMARY:Introduction
DTSTART;VALUE=DATE-TIME:20160321T083000Z
DTEND;VALUE=DATE-TIME:20160321T094500Z
DTSTAMP;VALUE=DATE-TIME:20240319T104554Z
UID:indico-contribution-16@ictp.it
DESCRIPTION:Speakers: TIMO HEISTER (Clemson Univ\, USA)\n//indico.ictp.it/
 event/7751/session/4/contribution/16
LOCATION:ICTP Adriatico Guest House - Giambiagi Lecture Hall (Lower Level 
 1)
URL://indico.ictp.it/event/7751/session/4/contribution/16
END:VEVENT
END:VCALENDAR
