BEGIN:VCALENDAR
VERSION:2.0
PRODID:-//CERN//INDICO//EN
BEGIN:VEVENT
SUMMARY:Solving Poisson's equation
DTSTART;VALUE=DATE-TIME:20160321T144500Z
DTEND;VALUE=DATE-TIME:20160321T160000Z
DTSTAMP;VALUE=DATE-TIME:20240319T102205Z
UID:indico-contribution-19@ictp.it
DESCRIPTION:Speakers: TIMO HEISTER (Clemson Univ\, USA)\n//indico.ictp.it/
 event/7751/session/4/contribution/19
LOCATION:ICTP Adriatico Guest House -  Informatics Lab (Lower Level 1)
URL://indico.ictp.it/event/7751/session/4/contribution/19
END:VEVENT
END:VCALENDAR
