BEGIN:VCALENDAR
VERSION:2.0
PRODID:-//CERN//INDICO//EN
BEGIN:VEVENT
SUMMARY:Computing on Embedded Surfaces
DTSTART;VALUE=DATE-TIME:20160323T101500Z
DTEND;VALUE=DATE-TIME:20160323T113000Z
DTSTAMP;VALUE=DATE-TIME:20240319T104251Z
UID:indico-contribution-9@ictp.it
DESCRIPTION:Speakers: LUCA HELTAI (SISSA\, Trieste)\n//indico.ictp.it/even
 t/7751/session/2/contribution/9
LOCATION:ICTP Adriatico Guest House - Giambiagi Lecture Hall (Lower Level 
 1)
URL://indico.ictp.it/event/7751/session/2/contribution/9
END:VEVENT
END:VCALENDAR
