BEGIN:VCALENDAR
VERSION:2.0
PRODID:-//CERN//INDICO//EN
BEGIN:VEVENT
SUMMARY:Lab Session – BSU Computer Lab
DTSTART;VALUE=DATE-TIME:20171005T080000Z
DTEND;VALUE=DATE-TIME:20171005T083000Z
DTSTAMP;VALUE=DATE-TIME:20240229T181844Z
UID:indico-contribution-15@ictp.it
DESCRIPTION:Speakers: \n//indico.ictp.it/event/7966/session/2/contribution
 /15
LOCATION: - Georgia
URL://indico.ictp.it/event/7966/session/2/contribution/15
END:VEVENT
END:VCALENDAR
